BEGIN:VCALENDAR
VERSION:2.0
CALSCALE:GREGORIAN
METHOD:PUBLISH
BEGIN:VEVENT
SUMMARY:Atelier : Création d'un tissage d'éléments naturels
DTSTART:20260730T140000Z
DTEND:20260730T153000Z
DTSTAMP:20260423T110856Z
CATEGORIES:
DESCRIPTION:\n	Dans un ovale de saule\, vous tisserez les éléments natur
 els préalablement rammassés. \n\n	RDV dans le parc des Dérèches\, au 
 niveau de la scierie La Battante. \n\n	3 euros. \n
LOCATION:Parc des Dérèches 74110 Morzine - FR
ORGANIZER:Office de Tourisme 
END:VEVENT
END:VCALENDAR
