BEGIN:VCALENDAR
VERSION:2.0
CALSCALE:GREGORIAN
METHOD:PUBLISH
BEGIN:VEVENT
SUMMARY:Balade-Jeux : Je découvre la forêt en m'amusant
DTSTART:20260730T120000Z
DTEND:20260730T133000Z
DTSTAMP:20260423T105848Z
CATEGORIES:
DESCRIPTION:\n	Vous apprendrez à reconnaïtre les feuilles des arbres\, l
 eurs fruits\, les empreintes d'animaux. \n\n	RDV dans le parc des Dérèc
 hes\, au niveau de la scierie La Battante. \n\n	3 euros. \n
LOCATION:Parc des Dérèches 74110 Morzine - FR
ORGANIZER:Office de Tourisme 
END:VEVENT
END:VCALENDAR
