BEGIN:VCALENDAR
VERSION:2.0
CALSCALE:GREGORIAN
METHOD:PUBLISH
BEGIN:VEVENT
SUMMARY:Balade découverte familiale : La nature sur les bords de Dranse
DTSTART:20260730T080000Z
DTEND:20260730T100000Z
DTSTAMP:20260423T105836Z
CATEGORIES:
DESCRIPTION:\n	RDV à l'entrée du Parc des Dérèches. \n\n	3 euros. \n
LOCATION:Parc des Dérèches 74110 Morzine - FR
ORGANIZER:Office de Tourisme 
END:VEVENT
END:VCALENDAR
