BEGIN:VCALENDAR
VERSION:2.0
CALSCALE:GREGORIAN
METHOD:PUBLISH
BEGIN:VEVENT
SUMMARY:Atelier : Décoration de pots en terre pour accueillir un petit ca
 ctus
DTSTART:20260806T143000Z
DTEND:20260806T160000Z
DTSTAMP:20260424T094746Z
CATEGORIES:
DESCRIPTION:\n	RDV dans le chalet sur la place de l'Office de Tourisme.\n\
 n	3 euros. \n\n	Les parents qui accompagnent juste leurs enfants n'ont pa
 s besoin de s'inscrire. \n
LOCATION:26 place du Baraty 74110 Morzine - FR
ORGANIZER:Office de Tourisme 
END:VEVENT
END:VCALENDAR
