BEGIN:VCALENDAR
VERSION:2.0
CALSCALE:GREGORIAN
METHOD:PUBLISH
BEGIN:VEVENT
SUMMARY:Atelier créatif : Fabrication de porte-clefs bijoux
DTSTART:20260806T123000Z
DTEND:20260806T140000Z
DTSTAMP:20260424T094000Z
CATEGORIES:
DESCRIPTION:\n	 \n\n	RDV dans le chalet sur la place de l'Office de Touri
 sme.\n\n	3 euros. \n\n	Les parents qui accompagnent juste leurs enfants n
 'ont pas besoin de s'inscrire. \n
LOCATION:26 place du Baraty 74110 Morzine - FR
ORGANIZER:Office de Tourisme 
END:VEVENT
END:VCALENDAR
