BEGIN:VCALENDAR
VERSION:2.0
CALSCALE:GREGORIAN
METHOD:PUBLISH
BEGIN:VEVENT
SUMMARY:Atelier : Réalisation d'une famille royale de lutins en pomme de 
 pin et laine 
DTSTART:20260723T123000Z
DTEND:20260723T140000Z
DTSTAMP:20260423T105858Z
CATEGORIES:
DESCRIPTION:\n	RDV dans le chalet sur la place de l'Office de Tourisme.\n\
 n	3 euros. \n\n	Les parents qui accompagnent juste leurs enfants n'ont pa
 s besoin de s'inscrire. \n
LOCATION:26 place du Baraty 74110 Morzine - FR
ORGANIZER:Office de Tourisme 
END:VEVENT
END:VCALENDAR
