BEGIN:VCALENDAR
VERSION:2.0
CALSCALE:GREGORIAN
METHOD:PUBLISH
BEGIN:VEVENT
SUMMARY: JEUDI 7 MAI -  Soirée pétanque 
DTSTART:20260507T160000Z
DTEND:20260507T210000Z
DTSTAMP:20260424T064456Z
CATEGORIES:
DESCRIPTION:\n	Jeudi 7 mai\, Château Paradis vous ouvre ses portes pour s
 a première soirée d'été. Au programme : terrains de pétanque en libr
 e accès\, bar à vin\, foodtruck pizza sur place et une ambiance music
 ale entrainante\, le tout face au coucher du soleil !\n\n	Entrée 5€ - 
 avec 1 verre de vin offert\n	Bar à vin & foodtruck pizza\nDe 18h à 23h\n
LOCATION:2900 Chemin de Pommier - Quartier Paradis 13610 Le Puy-Sainte-Ré
 parade - FR
ORGANIZER:SARL VIGNOBLES PARADIS
END:VEVENT
END:VCALENDAR
