BEGIN:VCALENDAR
VERSION:2.0
CALSCALE:GREGORIAN
METHOD:PUBLISH
BEGIN:VEVENT
SUMMARY:Atelier : Réalisation de petits tableaux de mandalas en dot paint
 ing
DTSTART:20260716T123000Z
DTEND:20260716T140000Z
DTSTAMP:20260422T120026Z
CATEGORIES:
DESCRIPTION:\n	RDV sous la halle de l'Eglise. Juste à côté de la Mairie
  de Morzine. \n\n	3 euros. \n\n	Les parents qui accompagnent juste leurs
  enfants n'ont pas besoin de s'inscrire. \n
LOCATION:Place de l'Eglise 74110 Morzine - FR
ORGANIZER:Office de Tourisme 
END:VEVENT
END:VCALENDAR
