BEGIN:VCALENDAR
VERSION:2.0
CALSCALE:GREGORIAN
METHOD:PUBLISH
BEGIN:VEVENT
SUMMARY:Atelier : Création d'un cadre d'oiseaux en galets peints et bois 
 flotté
DTSTART:20260716T083000Z
DTEND:20260716T100000Z
DTSTAMP:20260422T115931Z
CATEGORIES:
DESCRIPTION:\n	RDV sous la halle de l'Eglise. Juste à côté de la Mairie
  de Morzine. \n\n	3 euros. \n\n	Les parents qui accompagnent juste leurs
  enfants n'ont pas besoin de s'inscrire. \n
LOCATION:Place de l'Eglise 74110 Morzine - FR
ORGANIZER:Office de Tourisme 
END:VEVENT
END:VCALENDAR
