BEGIN:VCALENDAR
VERSION:2.0
CALSCALE:GREGORIAN
METHOD:PUBLISH
BEGIN:VEVENT
SUMMARY:Release Party · LABEL DALO RECORDS
DTSTART:20260509T183000Z
DTEND:20260509T213000Z
DTSTAMP:20260420T205520Z
CATEGORIES:
DESCRIPTION:\n	 \n\n	LABEL DALO RECORDS\n\n	AYVEE - TAMISHA- JAY LUV- NAB
 I - SIPO\n\n\n
LOCATION:12 place de la Résistance et de la Déportation 93200 Saint-Deni
 s - FR
ORGANIZER:Ville de Saint-Denis
END:VEVENT
END:VCALENDAR
