BEGIN:VCALENDAR
VERSION:2.0
CALSCALE:GREGORIAN
METHOD:PUBLISH
BEGIN:VEVENT
SUMMARY:Finale du concours "Mon apprentissage en 180 secondes"
DTSTART:20260605T120000Z
DTEND:20260605T150000Z
DTSTAMP:20260421T143853Z
CATEGORIES:
DESCRIPTION:Le vendredi 05 juin 2026 de 14h à 17h\, la salle cinéma du c
 ampus des Jacobins de l’Université de Limoges vibrera au rythme de l’
 éloquence et de la passion professionnelle ! Organisé par la Direction d
 e la Formation Continue et de l’Apprentissage (DFCA) et la Direction de 
 l’Orientation et de l’Insertion Professionnelle (DORI)\, cet événeme
 nt inédit mettra en lumière 14 apprentis qui relèveront un défi de tai
 lle : convaincre le jury et le public en seulement 3 minutes afin de rempo
 rter le premier prix : 1000€ ! \nCet événement gratuit est ouvert à 
 tous\, étudiants\, parents d'étudiants\, professionnels\, curieux ou pas
 sionnés. Le public aura aussi son mot à dire en votant pour son apprenti
  favori. Venez donc nombreux afin de soutenir les candidats et découvrir 
 l’apprentissage sous un nouveau jour !\nInscrivez-vous vite\, les places
  sont limitées !
GEO:45.824381;1.2634626
LOCATION:88 Rue du Pont Saint-Martial 87000 Limoges - FR
ORGANIZER:Université de Limoges
END:VEVENT
END:VCALENDAR
