BEGIN:VCALENDAR
VERSION:2.0
CALSCALE:GREGORIAN
METHOD:PUBLISH
BEGIN:VEVENT
SUMMARY:Paris Center Kiz 
DTSTART:20260429T180000Z
DTEND:20260429T230000Z
DTSTAMP:20260421T102142Z
CATEGORIES:
DESCRIPTION:\n	Paris Center Kiz - La Mensuelle\n\n	 \n\n	20h00 - 1h\n\n	
  \n\n	Préparez-vous pour une soirée inoubliable !!!\n\n	 \n\n	20h - 20
 h45\n\n	Initiation Kizomba : Bil\n\n	 \n\n	20h45 - 21h 15 \n\n	Body Mouv
  et Musicalité : Viùva Negra\n\n	 \n\n	Dj : Dj Drums\n\n	Dj : Viùva Ne
 gra\n\n	 \n\n	Dress code :\n\n	Chic et Glamour\n\n	 \n\n	Entrée : 10€
 \n\n	Vestiaire Gratuit\n\n	Happy Hour jusqu'à Minuit\n\n	 \n\n	Le Cirque
  Beaubourg\n\n	141 Rue Saint Martin\n\n	75004 Paris\n\n	Métro : Rambuteau
 \, Châtelet\n
LOCATION:141 Rue Saint Martin   75004 Paris - FR
ORGANIZER:AFRO&CO
END:VEVENT
END:VCALENDAR
