BEGIN:VCALENDAR
VERSION:2.0
CALSCALE:GREGORIAN
METHOD:PUBLISH
BEGIN:VEVENT
SUMMARY:Concert - Piano a 4 mains
DTSTART:20260503T130000Z
DTSTAMP:20260422T163935Z
CATEGORIES:
DESCRIPTION:
GEO:48.9178761;2.2713188
LOCATION:72 Rue Victor Hugo 92270 Bois-Colombes - FR
ORGANIZER:Centre 72
END:VEVENT
END:VCALENDAR
