BEGIN:VCALENDAR
VERSION:2.0
CALSCALE:GREGORIAN
METHOD:PUBLISH
BEGIN:VEVENT
SUMMARY:Rallye culturel à vélo
DTSTART:20260506T150000Z
DTSTAMP:20260421T033936Z
CATEGORIES:
DESCRIPTION:\nEnvie d’une balade culturelle à vélo ? Inscrivez-vous a
 u Rallye vélo dans la ville !\n\nPrenez le départ du rallye vélo qui re
 liera plusieurs équipements de la ville (à partir de 8 ans et accompagn
 és pour les moins de 12 ans). N'oubliez pas de prévoir une bouteille d'
 eau\, votre vélo et votre casque (obligatoire) pour cette balade.\n\n- Le
  départ se fera à 17h depuis le parc de la mairie en direction du conser
 vatoire\, situé rue Édouard-Herriot\, où les cyclistes seront accueilli
 s en musique et en chant par les élèves. \n- La seconde étape mènera 
 les participants au château de la Forêt\, où ils pourront découvrir l
 ’exposition de l’association livryenne Destination Images. \n- Le par
 cours s’achèvera aux alentours de 18h30 au centre culturel cinéma Yves
 -Montand où\, au Tiers-Lieu\, une animation autour de la bicyclette atten
 dra les cyclistes les plus motivés. \n
LOCATION:Allée du Parc de la Mairie 93190 Livry-Gargan - FR
ORGANIZER:Mairie de Livry-Gargan
END:VEVENT
END:VCALENDAR
