BEGIN:VCALENDAR
VERSION:2.0
CALSCALE:GREGORIAN
METHOD:PUBLISH
BEGIN:VEVENT
SUMMARY: 29092026 - MHM - SALON - BATIMAT - FFBN - PARIS
DTSTART:20260929T050000Z
DTEND:20260929T190000Z
DTSTAMP:20260421T000228Z
CATEGORIES:
DESCRIPTION:\n	Cher(e)s adhérent(e)s\, Cher(e)s partenaires\,\n\n	 \n\n	
 C'est avec grand plaisir que la FFB17 vous invite à participer à un év
 énement majeur de notre secteur :\n\nLe Salon BATIMAT\, salon internation
 al de la Construction et du Batiment.\n\n	Rejoignez-nous pour une journée
  dédiée à l'innovation\, à la découverte des nouvelles tendances\, et
  surtout aux échanges professionnels au cœur du plus grand salon du bât
 iment en France.\n\n	Batimat est l'occasion unique de rencontrer les acteu
 rs clés du bâtiment\, de découvrir les solutions de demain et de renfor
 cer notre réseau.\n\n	 \n\nUne offre exceptionnelle pour nos membres :\n
 \n	Afin de faciliter votre venue et de faire de cette journée un véritab
 le moment de convivialité\, la FFB a le plaisir de vous offrir une prise 
 en charge complète pour cet événement :\n\n✅ Le Voyage Aller-Retour :
  Vos billets de train SNCF départ de la Rochelle ou Surgères.\n\n	✅ Vo
 tre Billet d'Entrée Offert : Accédez gratuitement au salon.\n✅ Le Déj
 euner Convivial \n
LOCATION: Pl. de la Prte de Versailles Entree A1 75015 PARIS - FR
ORGANIZER:CID BTP
END:VEVENT
END:VCALENDAR
