BEGIN:VCALENDAR
VERSION:2.0
CALSCALE:GREGORIAN
METHOD:PUBLISH
BEGIN:VEVENT
SUMMARY:Stage Street Jazz et/ou Heels Cabaret 
DTSTART:20260426T120000Z
DTEND:20260426T150000Z
DTSTAMP:20260420T155619Z
CATEGORIES:
DESCRIPTION:\n	Une fois votre place réservée\, aucun remboursement ne se
 ra possible. Merci pour votre compréhension. Cordialement \n\n	La direct
 ion \n
LOCATION:213 rue Paul et Camille Thomoux  93330 Neuilly sur Marne  - FR
ORGANIZER:LATIN STUDIO
END:VEVENT
END:VCALENDAR
