BEGIN:VCALENDAR
VERSION:2.0
CALSCALE:GREGORIAN
METHOD:PUBLISH
BEGIN:VEVENT
SUMMARY:Demandeurs d’asile : un modèle de placement en emploi pour les 
 entreprises
DTSTART:20260507T140000Z
DTEND:20260507T150000Z
DTSTAMP:20260421T102143Z
CATEGORIES:
DESCRIPTION:\n\n\nDemandeurs d’asile : un modèle de placement en emploi
  pour les entreprises de Montréal et des régions\n\n			Ce webinaire pré
 sentera le projet pilote du CACI\, un modèle de réussite innovant axé s
 ur le placement en emploi des demandeurs d’asile à Montréal et en rég
 ion. Cette initiative répond à un double enjeu : soutenir les entreprise
 s confrontées à la rareté de main-d’œuvre et favoriser l’intégrat
 ion professionnelle durable des demandeurs d’asile.\n\n			Grâce à une 
 approche structurée\, le CACI met à la disposition des entreprises un ba
 ssin de candidats préparés\, sélectionnés et motivés\, tout en permet
 tant aux participants de développer leur autonomie et leur stabilité.\n\
 n			Le webinaire mettra en lumière un modèle éprouvé\, qui a démontr
 é au fil des mois sa capacité à générer des embauches réelles et rap
 ides\, tant à Montréal qu’en région. \n\n			Les participants pourron
 t en apprendre davantage sur le profil des demandeurs d’asile\, sur l’
 accompagnement structuré et personnalisé offert par le CACI en matière 
 de préparation et de placement en emploi\, ainsi que sur les processus d
 éveloppés et éprouvés permettant d’aboutir efficacement à des embau
 ches concrètes et rapides.\n\nNos invitées du Centre d'appui aux communa
 utés immigrantes (CACI) :\n			- Agnès Merlin\, Coordonnatrice aux opéra
 tions\n			- Lusine Ziadyan\, Cheffe d’équipe Employabilité\n\nDate : 
 Jeudi 7 mai 2026\n\nHeure : 10h à 11h\nDurée : 40 minutes + questions\
 nEn ligne (lien fourni après inscription)\nMembres AHQ : gratuit\nNon-me
 mbres : 40$\n\n			Nous avons hâte de vous y retrouver\,\n\n			L’équip
 e de l’AHQ\n\n\n\n\n
LOCATION:   - CA
ORGANIZER:Association Hôtellerie du Québec
END:VEVENT
END:VCALENDAR
