BEGIN:VCALENDAR
VERSION:2.0
CALSCALE:GREGORIAN
METHOD:PUBLISH
BEGIN:VEVENT
SUMMARY:FOOTING CULTUREL "Femmes rouennaises inspirantes" SAMEDI 6 JUIN 20
 26
DTSTART:20260414T141500Z
DTEND:20260605T220000Z
DTSTAMP:20260420T183509Z
CATEGORIES:
DESCRIPTION:\nFOOTING CULTUREL SAMEDI 6 JUIN 2026\n\nPartez à la découve
 rte du matrimoine rouennais !\n	La Ville de Rouen\, en partenariat avec P
 lanète Bien-Être\, vous invite à explorer la cité sous un angle inédi
 t : celui des femmes qui en ont façonné l’histoire.\n	Au programme : u
 ne séance running commentée\, pour allier activité physique et immersi
 on culturelle.\n\n	Pendant 1h30\, laissez-vous guider à travers les rues
 \, places et quartiers emblématiques qui ont vu naître\, vivre ou s’en
 gager de nombreuses figures féminines inspirantes. Artistes\, militantes
 \, scientifiques ou héroïnes du quotidien… chacune d’elles a laissé
  une empreinte précieuse dans le patrimoine local.\n\n	En fin de parcours
 \, chaque participant repart avec un jeu de cartes exclusif conçu par l
 a Ville\, mettant en lumière toutes les Rouennaises présentées : un sou
 venir unique pour prolonger la découverte !\n\n	Gratuit et ouvert à tout
 es et tous dès 16 ans. Inscriptions obligatoires. Merci de présenter vot
 re billet le jour J!\n
LOCATION:13 rue Racine 76000 Rouen - FR
ORGANIZER:Planète Bien-Etre
END:VEVENT
END:VCALENDAR
