BEGIN:VCALENDAR
VERSION:2.0
CALSCALE:GREGORIAN
METHOD:PUBLISH
BEGIN:VEVENT
SUMMARY:Carte Blanche offerte à l’Atelier de Paris / CDCN
DTSTART:20260612T173000Z
DTEND:20260612T200000Z
DTSTAMP:20260420T160509Z
CATEGORIES:
DESCRIPTION:\n\n__________________________________________________________
 ________________________________________\n\n[12 juin - 19h30]\n\n_________
 __________________________________________________________________________
 \n\n		 \n\nCarte Blanche offerte à\n\nl’Atelier de Paris / CDCN\n\nDan
 s le cadre du festival June Events\n\n		 \n\nPlateau partagé : Siham Enn
 ajjary\, Mehdi Dahkan et Christophe Al Haber\n\nAu programme :\n\n\n**Sab'
 r de Siham Ennajjary **: Sab’r\, dans la langue arabe\, est un mot-mond
 e évoquant une patience intense et intérieure\, qui permet d'atteindre l
 e cœur de son désir. Figure montante de la scène belge\, la performeuse
  Siham Ennajjary signe un premier solo d'une maturité saisissante à part
 ir d’une quête de ses origines amazighes et de son goût pour le krump.
 \n\nKMs of Resistance de Mehdi Dahkan : Où trouver d’autres leviers de 
 résistance lorsque la parole est réduite à néant ? En s’inspirant d
 e l’Aïta\, une tradition marocaine millénaire de clameur face à la ce
 nsure\, Mehdi Dahkan et Mohamed Bouriri dressent en duo une protestation c
 orporelle\, à la cadence vitale de la respiration.\n\nFragmentation de Ch
 ristophe Al Haber : Photographe et danseur\, Christophe Al Haber observe l
 a manière dont l’émotion\, la mémoire et l’identité sont véhicul
 ées\, révélées ou dissimulées à travers le mouvement et l’immobili
 té. Depuis la position d’une statue sur un piédestal\, le corps recouv
 ert d’argile\, il offre une performance à la fois introspective et all
 égorique.\n\n	 \n
LOCATION:46 Rue Quincampoix 75004 Paris - FR
ORGANIZER:Centre Wallonie-Bruxelles I Paris
END:VEVENT
END:VCALENDAR
