BEGIN:VCALENDAR
VERSION:2.0
CALSCALE:GREGORIAN
METHOD:PUBLISH
BEGIN:VEVENT
SUMMARY:ПУШКИН И ДЕНЬГИ // Tеатр the Chaika / спект
 акль для всей семьи // Stuttgart
DTSTART:20260528T173000Z
DTEND:20260528T184500Z
DTSTAMP:20260421T140701Z
CATEGORIES:
DESCRIPTION:\n\n ПУШКИН И ДЕНЬГИ \n\n		 \n\n\nПремье
 ра театра the Chaika - спектакль для всей семь
 и!  \n\n			 \n\n\nСколько стоила рюмка вина и 
 поездка на извозчике во времена Пушкина?
  Сколько платили за одну строку «Евгения
  Онегина» — и мог ли поэт позволить себе 
 роскошную жизнь? \n\n\nЭтот живой и остроу
 мный спектакль-диалог открывает Пушкина
  с неожиданной стороны: не как бронзовый 
 памятник\, а как человека с долгами\, стра
 стями\, любовью к свободе и умением плати
 ть за право быть собой.\n\n\nЛёгкая игровая
  форма\, юмор\, актёрская энергия — всё эт
 о делает спектакль интересным и для взро
 слых\, и для подростков. Вы уйдёте не толь
 ко с улыбкой\, но и с неожиданным чувство
 м близости к Пушкину и его эпохе.\n\n\nРежи
 ссер: Анастасия Патлай\n\nДраматург: Нана 
 Гринштейн\n\nХудожник: Леонид Шмельков\n\n
 Актеры: Алексей Дедоборщ\, Егор Морозов\n\
 n\nПродолжительность 1 час\n\n10+\n\n\nthechaika.com -
  это независимый театр\, основанный двум
 я профессиональными актерами\, живущими 
 в ЕС.\n\n\n\nБИЛЕТЫ:\nVVK: online от 30€\nAK: 35€\n			Ко
 личество мест ограничено.\n			Информация: 
 +43 69010090852\n\n\n\n	 \n
LOCATION:Stöckachstraße 55 70190 Stuttgart - DE
ORGANIZER:Julia Mashkovich
END:VEVENT
END:VCALENDAR
