BEGIN:VCALENDAR
VERSION:2.0
CALSCALE:GREGORIAN
METHOD:PUBLISH
BEGIN:VEVENT
SUMMARY:Atelier ARPP -  Publicité et automobile/Deux-roues à moteur
DTSTART:20261117T133000Z
DTEND:20261117T153000Z
DTSTAMP:20260422T105214Z
CATEGORIES:
DESCRIPTION:\nOBJECTIFS \n\n\n		Connaître les règles déontologiques\, l
 égales et réglementaires applicables à la publicité en faveur de l’a
 utomobile et des deux-roues à moteur\, « tous supports ».\n\n		Mettre e
 n avant une marque de véhicule tout en restant responsable et éthique.\n
 \n		Informer le consommateur et adapter les mentions relatives aux offres 
 de prix.\n\n\n	 \n\nPROGRAMME :\n\n1. Les Recommandations « Automobile
  » et « Deux-roues à moteur » de l’ARPP.\n\n\n		Règles générale
 s et respect du Code de la route.\n\n		Comment promouvoir un véhicule san
 s faire de références à la vitesse et/ou à la puissance du moteur ?\n\
 n		Sécurité au volant : comment promouvoir des équipements de sécurit
 é sans mettre en scène de mauvais comportements ?\n\n\n2. Règles gén
 érales posées par la Recommandation « Développement durable » de l
 ’ARPP.\n\n\n		Représentation des véhicules en milieu naturel : rappel 
 des règles à respecter et alternatives possibles.\n\n		L’utilisation d
 e l’argument écologique pour les publicités automobile.\n\n\n3. Etique
 tte CO2 et messages issus de la loi sur l’Orientation des Mobilités.\n\
 n4. Mentions légales\, rectificatives et informatives.\n\n\n		Textes app
 licables selon l’offre promue (Prix\, LLD\, LOA\, Crédit).\n\n		Quelles
  mentions indiquer pour une offre de prix ? Quelles exigences de présenta
 tion ?\n\n\n	 \n\nIntervenantes Morgane Roques et Constance Cadena\, Jur
 istes-Conseils\n
LOCATION:En ligne\, via Zoom Meeting   - FR
ORGANIZER:Autorité de Régulation Professionnelle de la Publicité
END:VEVENT
END:VCALENDAR
