BEGIN:VCALENDAR
VERSION:2.0
CALSCALE:GREGORIAN
METHOD:PUBLISH
BEGIN:VEVENT
SUMMARY:Atelier ARPP - Publicité et Alcool
DTSTART:20261020T123000Z
DTEND:20261020T153000Z
DTSTAMP:20260422T084927Z
CATEGORIES:
DESCRIPTION:\nDurée 3 heures\n\nObjectifs\n\n\n		Comprendre le cadre lég
 al applicable aux campagnes publicitaires Alcool\n\n		Appréhender les app
 orts de la Recommandation « Alcool » de l’ARPP\n\n		Identifier les b
 onnes et mauvaises pratiques avec des exemples de publicités\n\n		Se mett
 re à jour des dernières actualités et jurisprudences\n\n\n	 \n\nProgra
 mme\n\n1. Loi « Evin » : que peut-on faire en publicité Alcool\n\n\n
 		Les supports autorisés.\n\n		Les indications autorisées.\n\n\n2. La Re
 commandation « Alcool » de l’ARPP\n\n\n		Les principes généraux\n\
 n		La représentation des personnalités en matière de publicité Alcool\
 n\n\n3. Communiquer sur les aspects environnementaux en alcool\n\n4. L’a
 rticle L.3323-3-1 du code de la santé publique : promouvoir l’œnotour
 isme\n\n5. Influenceurs et marques d’alcool\n\n6. Actualités et jurispr
 udences\n\n	 \n\n	Intervenante : Valérie Cousin\, Juriste-conseil\n
LOCATION:En ligne\, via Zoom Meeting   - FR
ORGANIZER:Autorité de Régulation Professionnelle de la Publicité
END:VEVENT
END:VCALENDAR
