BEGIN:VCALENDAR
VERSION:2.0
CALSCALE:GREGORIAN
METHOD:PUBLISH
BEGIN:VEVENT
SUMMARY:étude comparée sur les droits des femmes 
DTSTART:20260423T163000Z
DTSTAMP:20260422T070656Z
CATEGORIES:
DESCRIPTION:\nLE LIEN DE LA VISIOCONFERENCE VOUS SERA COMMUNIQUE ULTERIEUR
 EMENT\n\n	 \n\n	« Étude comparative : Les droits des femmes en Afghanis
 tan et en Arabie saoudite » \n\n	 \n\n	Entre instrumentalisation de la 
 religion et réalités tribales\, nous vous invitons à une conférence ex
 ceptionnelle pour décrypter les dynamiques de pouvoir en Afghanistan et e
 n Arabie Saoudite.\n\n	 \n\n	Au programme :\n\n	 \n\n	Afghanistan : Entr
 e modernité imposée et pureté morale Avec Mélissa Cornet chercheuse et
  écrivaine :\n\n	- L’instrumentalisation historique : Comment chaque r
 égime (du Roi aux Talibans) a utilisé les droits des femmes comme un emb
 lème politique\n\n	- Le choc de 2021 : Son analyse de terrain depuis 2018
  et l'évolution radicale après la chute de Kaboul.\n\n	- Décryptage : L
 es édits talibans viennent-ils vraiment de l'Islam ou de normes tribales 
 ancestrales ?\n\n	 \n\n	Arabie Saoudite : Du rigorisme à la rupture Avec
  Tony Kesserwany ancien consultant national auprès du Programme des NU po
 ur le développement\, assistant de programme liberté d’expression à i
 nternews Europe. \n\n	- Le pacte de Diriyah : Comprendre l'alliance histo
 rique entre pouvoir politique et wahhabisme.\n\n	- L’inertie et l'évolu
 tion : Pourquoi le modèle saoudien a-t-il stagné si longtemps avant de c
 onnaître les bouleversements de la dernière décennie ?\n\n	- Réformes 
 et limites : La rupture avec l'ancien modèle et la réalité du système 
 de la Kafala.\n\n	 \n\n	???? En visio-conférence \n\n	 \n\n	????️ Da
 te : 23 avril \n\n	 \n\n	⏰ Heure : 18h30 \n\n	 \n\n	????️ Inscript
 ion : Lien en bio ! Conférence ouverte à toutes et à tous !\n\n	 \n\n	
 Ne ratez pas cette opportunité exceptionnelle d’échanger avec des inte
 rvenants de renoms !\n\n	 \n\n	L’équipe de la CJS\n
LOCATION:   - FR
ORGANIZER:Clinique Juridique de La Sorbonne
END:VEVENT
END:VCALENDAR
