BEGIN:VCALENDAR
VERSION:2.0
CALSCALE:GREGORIAN
METHOD:PUBLISH
BEGIN:VEVENT
SUMMARY:atelier (RE)CRÉER chez COUP DE FOUDRE
DTSTART:20260422T083000Z
DTEND:20260624T120000Z
DTSTAMP:20260423T165424Z
CATEGORIES:
DESCRIPTION:Vous cherchez une activité créative\, apaisante et accessibl
 e à tous ?Offrez-vous un moment hors du temps avec la broderie intuitive\
 , une pratique créative et méditative qui ne demande aucune connaissance
  préalable. \nQu'est-ce que la broderie intuitive ?C'est une forme de br
 oderie libre où l'on suit son inspiration plutôt qu'un modèle précis. 
 Chaque point devient une respiration\, chaque fil une émotion.Ici\, pas d
 e jugement ni de perfection : juste le plaisir de créer avec ses mains.\n
 Pour qui ?Ces ateliers sont conçus pour les débutants curieux\, sensible
 s à la création et au bien-être\, en quête d'un espace d'expression pe
 rsonnel et de calme intérieur.Adultes et enfants accompagnés de 6 à 14 
 ans.\nOù : à la Boutique COUP DE FOUDRE à PessacQuand : un mercredi par
  mois matin ou après midi et un samedi tous les deux mois à 13h30 Au pr
 ogramme : Exploration libre et intuitive des matières (fils et chutes de 
 tissus) fournies par  LE SOLEIL EST EN NOUS\nMoment de recentrage et de l
 âcher-prise.\nCréation d'une pièce unique\, reflet de votre monde inté
 rieur (tu apportes ton vêtement à customiser).\nUne parenthèse créativ
 e pour se reconnecter à soi et laisser parler son imagination.\nTARIF COU
 RS 2H30 (matériel couture fournit\, amener un vêtement à customiser) \
 n1 COURS 40€/pers et 70€ le duo enfant de 6 à 14 ans accompagné2 COU
 RS SOIT 5H = 75€ ADULTE ET 130€ LE DUO\,5 COURS SOIT 12H30 =170€ ADU
 LTE ET 350€ DUO
LOCATION:5 rue des poilus 33600 Pessac
ORGANIZER:LE SOLEIL EST EN NOUS
END:VEVENT
END:VCALENDAR
