BEGIN:VCALENDAR
VERSION:2.0
CALSCALE:GREGORIAN
METHOD:PUBLISH
BEGIN:VEVENT
SUMMARY:Soirée Courts-Métrages : LE GARDIEN DE MON FRERE
DTSTART:20260503T173000Z
DTSTAMP:20260425T002927Z
CATEGORIES:
DESCRIPTION: \nVenez découvrir le court-métrage LE GARDIEN DE MON FRERE
 .\n \nRéalisé par Landry Ndongom & Flogo.\n \nRencontre avec l'équipe
  du film pour échanger avec le public.\n"Le Gardien de mon frère" racont
 e la descente aux enfers de Dry\, hanté par la culpabilité et obsédé p
 ar la vengeance après la mort de son petit frère qu’il avait entraîn
 é dans le crime.\nTandis que Marcus\, figure ambiguë\, semble dissimuler
  une vérité plus sombre\, Dry découvre trop tard que la vengeance ne co
 mble pas le vide\, elle l’élargit.\n
GEO:47.2242998;-1.625475
LOCATION:Place Jean-Bart 44800 Saint-Herblain - FR
ORGANIZER:UGC Ciné Cité
END:VEVENT
END:VCALENDAR
