BEGIN:VCALENDAR
VERSION:2.0
CALSCALE:GREGORIAN
METHOD:PUBLISH
BEGIN:VEVENT
SUMMARY:Release Party - Comptoir des Anges
DTSTART:20260520T170000Z
DTEND:20260520T210000Z
DTSTAMP:20260419T121603Z
CATEGORIES:
DESCRIPTION:Le 20 mai 2026\, Crapule Jak et Sekri investissent la scène d
 e la Péniche Metaxu à Pantin pour célébrer la sortie de leur premier p
 rojet commun : "Comptoir des Anges"\, disponible le 15 mai 2026 sur toutes
  les plateformes.\nPensé comme un véritable espace de vie\, "Comptoir de
 s Anges" mêle chronique sociale\, énergie collective et poésie brute. S
 ur scène\, le duo donne corps à cet univers entre rap classique\, textur
 es trap et influences musicales hybrides\, porté par une écriture préci
 se et incarnée.\nEntre kickage\, moments suspendus et communion avec le p
 ublic\, cette release party s’annonce comme une immersion totale dans le
 ur monde : celui d’un rap vivant\, sincère et fédérateur.\nUne soiré
 e à ne surtout pas rater ! \n \n\nPré save et découvre le projet des 
 maintenant en cliquant sur le lien !!\nhttps://distrokid.com/hyperfollow/c
 rapulejakandsekri/comptoir-des-anges
GEO:48.8948533;2.4148045
LOCATION:Place de la pointe 93500 Pantin - FR
ORGANIZER:Comptoir des Anges
END:VEVENT
END:VCALENDAR
