BEGIN:VCALENDAR
VERSION:2.0
CALSCALE:GREGORIAN
METHOD:PUBLISH
BEGIN:VEVENT
SUMMARY:Visio Lively Farming > 24 avril\, 14h
DTSTART:20260424T120000Z
DTEND:20260424T130000Z
DTSTAMP:20260420T135151Z
CATEGORIES:
DESCRIPTION:Si vous habitez à Paris ou dans l'Essonne et que vous souhait
 ez :\n\navoir accès à une alimentation variée\, durable et de qualité 
 à un prix modéré stable\,\ncultiver un style de vie sain\, connecté au
  vivant et à la terre\,\nparticiper à un projet collectif qui fait sens 
 et co-investir dans une ferme partagée à proximité de chez vous...\n\nR
 ejoignez-nous pour ce webinaire d'une heure environ pour vous présenter L
 ively Farming\, le concept de ferme participative agri-citoyenne ainsi que
  le site où elle serait créée !\n>>> Lien Teams pour la visio qui déma
 rre à 14h le vendredi 24 avril 
LOCATION:  
ORGANIZER:Lively Insights
END:VEVENT
END:VCALENDAR
