BEGIN:VCALENDAR
VERSION:2.0
CALSCALE:GREGORIAN
METHOD:PUBLISH
BEGIN:VEVENT
SUMMARY:Ballade/world songs avec Couleur Coton
DTSTART:20260926T180000Z
DTEND:20260926T210000Z
DTSTAMP:20260422T224958Z
CATEGORIES:
DESCRIPTION:\n	Une soirée acoustique conviviale en salle pour ce réperto
 ire de ballades anglo-saxonnes\, folk\, blues\, .... un détour par les St
 ates nous invitera au voyage : Bob Dylan\, Willie Nelson\, Bruce Springste
 en\, Elvis Prelsey\, Simon and Garfunkel et tant d'autres... \n	En premi
 ère partie\, venez découvrir l'univers folk de Patrice Kapfer\, passionn
 é de musique et élève de Jean-Luc Wehinger et qu'il accompagnera à la 
 guitare\, au violon\, violoncelle\, harmonica....\n	 \n\n	Buvette et rest
 auration sur place. Accueil à partir de 19h.\n	Gratuit pour les enfants :
  merci de téléphoner pour signaler leur présence.\n
LOCATION:62a\, route de Schweighouse 67500 Haguenau - FR
ORGANIZER:Funambule
END:VEVENT
END:VCALENDAR
