BEGIN:VCALENDAR
VERSION:2.0
CALSCALE:GREGORIAN
METHOD:PUBLISH
BEGIN:VEVENT
SUMMARY:Couleur Coton revisite les grandes légendes du Rock 60/80"
DTSTART:20260814T180000Z
DTEND:20260814T210000Z
DTSTAMP:20260422T224837Z
CATEGORIES:
DESCRIPTION:\n	Valérie et Jean-Luc Wehinger revisitent avec bonheur les g
 randes légendes du rock 60/80 à l'occasion de cette soirée du 14 août.
 \n	A l'abri sous leur préau\, profitez de cette soirée d'été en leur c
 ompagnie. Que ce soit en guitare électrique ou acoustique\, agrémenté d
 'harmonica et d'autres instruments\, la soirée s'inscrit sous le signe de
  la convivialité et de la proximité.\n\n	Gratuit  pour les enfants : ve
 uillez nous téléphoner pour annoncer leur venue.\n	Buvette et restaurati
 on sur place avec la brasserie le Refuge et les Tartes flambées de Mich.\
 n	Accueil à partir de 19h. Concert à 20h.\n	 \n
LOCATION:62a\, route de Schweighouse 67500 Haguenau - FR
ORGANIZER:Funambule
END:VEVENT
END:VCALENDAR
