BEGIN:VCALENDAR
VERSION:2.0
CALSCALE:GREGORIAN
METHOD:PUBLISH
BEGIN:VEVENT
SUMMARY:Conférence de Restitution du Colloque National Inter-Cliniques  
DTSTART:20260423T180000Z
DTSTAMP:20260422T070806Z
CATEGORIES:
DESCRIPTION:\n	La Clinique juridique de La Sorbonne a le plaisir de vous c
 onvier à sa dernière conférence de l’année !\n\n	 \n\n	Pour cette d
 ernière rencontre nous échangerons sur le colloque Inter-Cliniques organ
 isé par Nice et par la suite sur les impacts de l’IA dans les pratiques
  d’arbitrages et de médiations ainsi que dans la propriété intellectu
 elle.\n\n	 \n\n	Pour échanger sur ces problématiques nous aurons ainsi 
 le plaisir d’accueillir :\n\n	 \n\n	M. Tristan AZZI : Professeur de Dro
 it\, Directeur du département des Masters de droit privé\, Responsable d
 e la mention de Master Droit de la propriété intellectuelle\, Codirecteu
 r du Master 2 recherche Propriété industrielle et artistique.\n\n	M. Tho
 mas CLAY : Professeur de Droit\, spécialiste en Arbitrage et Médiation\,
  ancien Président de l’université Paris I Panthéon Sorbonne et avocat
  en arbitrage- Clay Arbitration.\n\n	 \n\n	Les informations à retenir :\
 n\n	Quand : Jeudi 23 avril - 20h\n\n	Où : Amphithéâtre Bachelard - Cent
 re Sorbonne (14 rue Cujas ou 54 rue St Jacques)\n\n	 \n\n	Ne ratez pas ce
 tte occasion exceptionnelle !\n\nNous avons hâte de pouvoir échanger ave
 c vous au cours de ce dernier événement.\n\n	 \n\n	L’inscription est 
 obligatoire\, gratuite et ouverte à tous. \n\n	 \n\n	L’équipe de la 
 CJS\n
LOCATION:14 rue Cujas ou 54 rue St Jacques 75005 Paris - FR
ORGANIZER:Clinique Juridique de La Sorbonne
END:VEVENT
END:VCALENDAR
