BEGIN:VCALENDAR
VERSION:2.0
CALSCALE:GREGORIAN
METHOD:PUBLISH
BEGIN:VEVENT
SUMMARY:Passeport FORUM - MUTEK 2026
DTSTART:20260826T130000Z
DTEND:20260829T000000Z
DTSTAMP:20260420T164521Z
CATEGORIES:
DESCRIPTION:\n\nMUTEK Forum est le volet professionnel de MUTEK. La progra
 mmation rassemble plus de 40+ présentations\, panels\, conférences-perfo
 rmances\, ateliers et classes de maître\, ainsi qu'une série d'activité
 s de réseautage. Les intervenant·e·s sont des artistes\, technologues\,
  curateurs·trices et chercheur·euse·s du monde entier\, œuvrant à la 
 pointe de l'art et de la technologie.\n\n		OFFRES PROMOTIONNELLES :\n		*É
 TUDIANT·E·S : Un tarif spécial est disponible pour le Passeport Forum (
 $90) et les Passes Forum ($35) en sélectionnant la catégorie “ÉTUDIAN
 T·E” au moment de l’achat. Une carte étudiant·e valide sera exigée
  lors du retrait. \n\n***TOUTES LES VENTES SONT FINALES*** *** NON ÉCHANG
 EABLE\, NON REMBOURSABLE*** \n\n---------------------------------\n\nMUTE
 K Forum is the professional arm of MUTEK. The program brings together 40+ 
 keynotes\, panels\, performance lectures\, workshops\, and masterclasses\,
  alongside a range of networking activities. Speakers include artists\, te
 chnologists\, curators\, and researchers from around the world working at 
 the forefront of arts and technology.\n\n		PROMOTIONAL OFFERS:\n		*STUDENT
 S: A special rate is available on Forum Passports ($90) and Day Passes ($3
 5) by selecting the "STUDENT" category at the time of purchase. A valid st
 udent card will be required when picking up your access bracelet. \n\n		*
 **ALL SALES ARE FINAL*** ***NO EXCHANGES\, REFUNDS***\n\n\n	 \n
LOCATION:  Montréal - CA
ORGANIZER:MUTEK
END:VEVENT
END:VCALENDAR
