BEGIN:VCALENDAR
VERSION:2.0
CALSCALE:GREGORIAN
METHOD:PUBLISH
BEGIN:VEVENT
SUMMARY:QSSE et économie bleue 
DTSTART:20260623T070000Z
DTEND:20260623T120000Z
DTSTAMP:20260425T232347Z
CATEGORIES:
DESCRIPTION:\nProfessionnels du naval et du nautisme\, acteurs portuaires\
 , chantiers navals\, acteurs académiques : Vous souhaitez vous informer
 \, anticiper vos enjeux QSSE et identifier des leviers de performance pour
  votre organisation ?\n\n	 \n\nLe Pôle Mer Méditerranée et Bureau Ver
 itas\, vous invitent à un atelier « QSSE et Economie Bleue » le mar
 di 23 juin à la Seyne-sur-Mer.\n\n	Les enjeux de Qualité\, Sécurité et
  Environnement (QSSE) sont aujourd’hui au cœur des stratégies des acte
 urs de l’économie bleue. Entre exigences réglementaires renforcées\, 
 impératifs de décarbonation et optimisation des ressources\, les entrepr
 ises doivent concilier conformité et performance durable.\n\n	Dans ce con
 texte et dans la continuité d’un premier atelier organisé en 2025 visa
 nt à accompagner les acteurs du maritime dans ces transformations\, Burea
 u Veritas et le Pôle Mer Méditerranée organisent un atelier dédié aux
  enjeux QSSE appliqués aux activités maritimes.\n\n	Cet événement offr
 ira aux entreprises du secteur l’opportunité de mieux appréhender le c
 adre réglementaire\, de découvrir des retours d’expérience concrets e
 t d’échanger autour des priorités opérationnelles à venir\, notammen
 t en matière de sécurité\, d’empreinte carbone et de gestion des déc
 hets.\n\n	Au programme : \n\n\n9h – 9h30 : Accueil café\n\n9h30 – 9h
 45 : Introduction Bureau Veritas et Pôle Mer Méditerranée\n\n9h45 – 
 10h30 : Conformité\, sécurité : Maitrise des risques et programme de p
 révention : maturité de la culture sécurité comme levier de développ
 ement.\n\n10h30 – 11h : Déchets - Economie circulaire : Retour d’exp
 érience de Ponant Explorations Group : nouveaux process et activation de
 s filiales existantes pour optimisation des coûts\, réduction des volume
 s et valorisation des déchets.\n\n11h – 11h15 : Pause-café\n\n11h15 
 – 12h : Vos enjeux QSSE 2026-2027 : Session de pitchs et d’échanges
  autour des priorités des entreprises : réduction de l’accidentologie\
 , de l’empreinte carbone et des déchets.\n\n12h – 14h : Cocktail net
 working\n\n\nInscription gratuite\, réservée aux membres du Pôle Mer M
 éditerranée et partenaires de Bureau Veritas.\n\n\n\n			 \n\n\n\n	Votre
  point de contact Pôle Mer Méditerranée :\n\n	Corentin SANGUINETTI\n	Ch
 ef de projet Ports\, Infrastructures et Logistique\nsanguinetti@polemermed
 iterranee.com\n\n	 \n
LOCATION:Zone portuaire de Brégaillon 83500 La Seyne-sur-Mer - FR
ORGANIZER:POLE MER MEDITERRANEE
END:VEVENT
END:VCALENDAR
