BEGIN:VCALENDAR
VERSION:2.0
CALSCALE:GREGORIAN
METHOD:PUBLISH
BEGIN:VEVENT
SUMMARY:Mendelssohn et Schubert-Berio 
DTSTART:20260504T173000Z
DTSTAMP:20260420T084856Z
CATEGORIES:
DESCRIPTION:\n*Concerto pour violon - Mendelssohn\n\n*Rendering - Schubert
 -Berio\n\n*Miniatures contemporaines (orchestrés par la classe de Nathan
  Rollez)\n\n	 \n\n	Par L'Ensemble éphémère Inter-conservatoire.\n\n	 
 \n\nArtus Wolinski et Thomas Jandot\, direction\n\n	 \n
LOCATION:43\, rue Bargue 75015 Paris - FR
END:VEVENT
END:VCALENDAR
