BEGIN:VCALENDAR
VERSION:2.0
CALSCALE:GREGORIAN
METHOD:PUBLISH
BEGIN:VEVENT
SUMMARY:Soirée Blanche
DTSTART:20260613T150000Z
DTEND:20260614T000000Z
DTSTAMP:20260421T143808Z
CATEGORIES:
DESCRIPTION:Le 13 juin\, vivez bien plus qu’une simple soirée à l’Ab
 baye de Villeneuve. \nLe temps d’une nuit\, nos jardins se transforment
  pour accueillir notre Soirée Blanche\, qui signe le début de la saison 
 estivale. \nAu programme : \nDîner\, espaces de découverte vins & spir
 itueux et performances artistiques et musicales seront au rendez-vous pour
  cette soirée exceptionnelle. \nPlongez dans une ambiance chic\, où él
 égance\, gourmandise et convivialité se rencontrent pour vous faire vivr
 e des souvenirs inoubliables.\nPlaces limitées - 85€\nRéservez dès ma
 intenant votre soirée du 13 juin \n 
LOCATION:Lieu-dit\, Villeneuve 44840 Les Sorinières - FR
ORGANIZER:L'Abbaye de Villeneuve
END:VEVENT
END:VCALENDAR
