BEGIN:VCALENDAR
VERSION:2.0
CALSCALE:GREGORIAN
METHOD:PUBLISH
BEGIN:VEVENT
SUMMARY:Rendez-vous marché | La transition énergétique dans le secteur 
 de la santé
DTSTART:20260623T070000Z
DTEND:20260623T120000Z
DTSTAMP:20260422T153124Z
CATEGORIES:
DESCRIPTION:\n	Dans une dynamique de coopération inter-filières\, Health
  Care Loire Valley\, Polepharma\, et Smart Power\, en partenariat avec EDF
  et Loire Valley Innov’\, s’associent pour proposer un événement\, l
 e 23 juin à Tours\, dédié à la transition énergétique dans le secteu
 r de la santé.\n	Au cœur de cette initiative : un constat partagé. Le s
 ecteur de la santé est aujourd’hui à un tournant stratégique\, confro
 nté à des exigences croissantes en matière de performance des soins\, d
 e maîtrise énergétique et de transition écologique.\n\n	Dans ce contex
 te\, les acteurs de la santé ainsi que les acteurs de l’énergie\, doiv
 ent faire évoluer leurs modèles pour répondre à plusieurs enjeux majeu
 rs :\n\n\n		Une augmentation continue des consommations énergétiques\, l
 iée notamment à l’intensification des usages et à la modernisation de
 s équipements\,\n\n		Un renforcement des cadres réglementaires\, imposan
 t de nouvelles exigences en matière de performance et de conformité\,\n\
 n		Des attentes accrues en matière d’écoconception et de réduction de
  l’empreinte environnementale\,\n\n		Une digitalisation croissante des 
 équipements et des infrastructures\, générant à la fois des opportunit
 és d’optimisation et de nouveaux défis\, notamment en matière de gest
 ion énergétique\n		Face à ces transformations\, il devient essentiel de
  croiser les expertises\, partager les retours d’expérience et faire é
 merger des solutions concrètes\, adaptées aux réalités du secteur.\n\n
 \n	C’est tout l’enjeu de ce RDV : créer un espace d’échanges entre
  acteurs de la santé\, de l’énergie et de l’innovation\, afin d’ac
 célérer l’émergence de solutions opérationnelles et de favoriser de 
 nouvelles collaborations au service de la transition énergétique du sect
 eur.\n\n\nPROGRAMME\n\n\n		9h00 : Accueil des participants\n\n		09h30 : Te
 mps forts\n		\n\n				Introduction\n\n				Intervention d'EDF\n\n				Témoig
 nage d'un établissement de santé\n\n				Pitchs de solutions innovantes\n
 \n				Table ronde : visions croisées énergie-santé-pharma\n\n\n\n		12h0
 0 : Speed-meeting\n		\n\n				Tables tournantes pour favoriser les échange
 s qualifiés\n\n\n\n		13h00 : Apéritif déjeunatoire\n		\n\n				Moment co
 nvivial et propice au développement de relations\n\n\n\n
LOCATION:5 allée Pina Bausch 37200 Tours - FR
ORGANIZER:Smart Power
END:VEVENT
END:VCALENDAR
