BEGIN:VCALENDAR
VERSION:2.0
CALSCALE:GREGORIAN
METHOD:PUBLISH
BEGIN:VEVENT
SUMMARY:Yoga & Brunch Montjoie
DTSTART:20260621T080000Z
DTSTAMP:20260420T132241Z
CATEGORIES:
DESCRIPTION:Yoga & Brunch au Domaine de MontjoieDimanche 21 juin 2026\nLes
  deux premières éditions du Yoga & Brunch 2026 vous ont fait vibrer… a
 lors on ne pouvait pas s’arrêter là ! Mais cette fois-ci nous vous don
 nons rendez-vous en extérieur pour savourer pleinement le retour des beau
 x jours ‍À partir de 10h00\, Géraldine Avisse vous guidera tout en dou
 ceur lors d’une séance d’Hatha Yoga. Le petit plus ? Si le soleil est
  au rendez-vous\, les séances auront lieu en extérieur\, dans notre gran
 d parc de 6 hectares.À 11h30\, place à la gourmandise. Installez-vous en
  terrasse et laissez-vous porter par la douceur du moment autour d’un br
 unch sous format de buffet à volonté\, composé de produits sucrés et s
 alés. Bonne nouvelle ! Les enfants à partir de 7 ans sont les bienvenus 
 pour partager ce moment de bien-être en famille ‍‍Cours et brunch son
 t réservables séparément : laissez-vous tenter par la détente\, la gou
 rmandise …ou les deux !\nUn tarif préférentiel est d’ailleurs prévu
  pour les enfants pour les adolescents :Pour les enfants (entre 7 et 12 an
 s) :- Cours de yoga : 10 €- Brunch spécial enfant : 25 €- Yoga + brun
 ch : 30 €Pour les adolescents (entre 12 et 18 ans) :- Cours de yoga : 15
  €- Brunch Montjoie : 35 €- Yoga + brunch : 45 €\nPour les adultes 
 :\n- Cours de yoga : 25 €- Brunch Montjoie : 35 €- Yoga + brunch : 50 
 €\nCours et brunch réservables séparément : laissez-vous tenter par l
 a détente\, la gourmandise… ou les deux !\n \nLe nombre de place est l
 imité\, réservez dès à présent :)
GEO:43.53982540000001;1.4606183
LOCATION:63 Avenue de l'Aeropostale 31520 Ramonville-Saint-Agne - FR
ORGANIZER:Le Domaine de Montjoie
END:VEVENT
END:VCALENDAR
