BEGIN:VCALENDAR
VERSION:2.0
CALSCALE:GREGORIAN
METHOD:PUBLISH
BEGIN:VEVENT
SUMMARY:Yoga & Brunch Montjoie
DTSTART:20260517T080000Z
DTSTAMP:20260420T132240Z
CATEGORIES:
DESCRIPTION:Yoga & Brunch au Domaine de MontjoieDimanche 17 mai 2026\nLes 
 deux premières éditions du Yoga & Brunch 2026 vous ont fait vibrer… al
 ors on ne pouvait pas s’arrêter là ! Mais cette fois-ci nous vous donn
 ons rendez-vous en extérieur pour savourer pleinement le retour des beaux
  jours ‍À partir de 10h00\, Géraldine Avisse vous guidera tout en douc
 eur lors d’une séance d’Hatha Yoga. Le petit plus ? Si le soleil est 
 au rendez-vous\, les séances auront lieu en extérieur\, dans notre grand
  parc de 6 hectares.À 11h30\, place à la gourmandise. Installez-vous en 
 terrasse et laissez-vous porter par la douceur du moment autour d’un bru
 nch sous format de buffet à volonté\, composé de produits sucrés et sa
 lés. Bonne nouvelle ! Les enfants à partir de 7 ans sont les bienvenus p
 our partager ce moment de bien-être en famille ‍‍Cours et brunch sont
  réservables séparément : laissez-vous tenter par la détente\, la gour
 mandise …ou les deux !\nUn tarif préférentiel est d’ailleurs prévu 
 pour les enfants pour les adolescents :Pour les enfants (entre 7 et 12 ans
 ) :- Cours de yoga : 10 €- Brunch spécial enfant : 25 €- Yoga + brunc
 h : 30 €Pour les adolescents (entre 12 et 18 ans) :- Cours de yoga : 15 
 €- Brunch Montjoie : 35 €- Yoga + brunch : 45 €\nPour les adultes :
 \n- Cours de yoga : 25 €- Brunch Montjoie : 35 €- Yoga + brunch : 50 
 €\nCours et brunch réservables séparément : laissez-vous tenter par l
 a détente\, la gourmandise… ou les deux !\n \nLe nombre de place est l
 imité\, réservez dès à présent :)
GEO:43.53982540000001;1.4606183
LOCATION:63 Avenue de l'Aeropostale 31520 Ramonville-Saint-Agne - FR
ORGANIZER:Le Domaine de Montjoie
END:VEVENT
END:VCALENDAR
