BEGIN:VCALENDAR
VERSION:2.0
CALSCALE:GREGORIAN
METHOD:PUBLISH
BEGIN:VEVENT
SUMMARY:Ensemble Matheus & Les Quatre Saisons - Mai 2026
DTSTART:20260507T180000Z
DTEND:20260510T160000Z
DTSTAMP:20260424T143915Z
CATEGORIES:
DESCRIPTION:\n3 concerts exceptionnels de l'Ensemble Matheus en Bretagne\n
 \nFidèle à son esprit de recherche\, l’Ensemble Matheus revisite depui
 s ses débuts Les Quatre Saisons\, œuvre emblématique qu’il n’a cess
 é de réinterroger\, jusqu’à en proposer récemment une lecture en éc
 ho aux enjeux climatiques contemporains. Ce programme prolonge cette déma
 rche en confrontant le cycle concertant de Vivaldi à une œuvre sacrée p
 lus rare\, le Laudate pueri pour soprano et cordes. \n\n	 \n\nSi ces deu
 x pièces semblent opposer musique descriptive et répertoire liturgique\,
  elles procèdent chez Vivaldi d’un même élan : une écriture virtuose
 \, lumineuse et profondément expressive\, où la voix et le violon sont t
 raités comme de véritables solistes.\n\n	 \n\nSur scène : Nina Spinosi
  (soprano) et 6 instrumentistes\n
LOCATION:   - FR
ORGANIZER:Association Musicus
END:VEVENT
END:VCALENDAR
