BEGIN:VCALENDAR
VERSION:2.0
CALSCALE:GREGORIAN
METHOD:PUBLISH
BEGIN:VEVENT
SUMMARY:Jeu : Hybris
DTSTART:20260523T180000Z
DTEND:20260523T213000Z
DTSTAMP:20260423T184342Z
CATEGORIES:
DESCRIPTION:\n\n		 Description\n\n		 \n\n\n\n\nLes Dieux Primordiaux son
 t tombés. Traqués\, capturés et torturés par leurs enfants\, Chronos e
 t ses pairs ne sont plus que des vestiges d’un ancien monde. L’ère de
 s Olympiens vient de naître. Après des années de combats\, un nouvel or
 dre est établi. Zeus ainsi que ses frères et sœurs ont pris la dominati
 on des cieux et du monde des mortels. Dorénavant\, ils essaient de s’or
 ganiser pour se partager les royaumes restants et savoir qui sera le nouve
 au meneur.\n\nMais les Olympiens\, malgré leur force colossale\, ne sont 
 pas encore de vrais dieux ! Ils doivent évoluer afin de déclencher l’
 étincelle qui les transformera en entité ultime. De plus\, ils doivent a
 sseoir leur domination dans le royaume des mortels et\, pour ce faire\, de
 voir utiliser l’essence même de leur père : l’Aegis. Cette énergie 
 provient directement des Primordiaux eux-mêmes\, capturés et enchaînés
  dans les Enfers. Grâce à cette énergie\, les Olympiens peuvent répond
 re aux attentes des plus grandes villes de la Grèce Antique en y déploya
 nt les plus belles et prometteuses technologies.\n\n					Incarnez un Olymp
 ien\, visitez des lieux mythiques\, créez des technologies\, prenez part 
 au combat et accomplissez des quêtes pour devenir le nouveau Dieu de l’
 Olympe ! Hybris vous propose une expérience unique mêlant une thémati
 que forte avec ses mécaniques de jeu. Chaque action et texte d’ambiance
  est hautement lié à la mythologie. Vivez votre propre saga en tant que 
 Dieu victorieux. Partagez-la avec vos amis !\n\n					Dans le jeu Hybris\,
  chaque joueur contrôle un Olympien en passe de devenir un dieu\, en appo
 rtant écoute et technologie au peuple de la Grèce Antique.\n					Durant 
 6 Âges\, les futurs dieux devront collectivement trouver les Primordiaux 
 pour extraire l’Aegis et chasser toute menace risquant de rompre l’éq
 uilibre qu’ils essaient d’instaurer. Mais ils chercheront également 
 à développer leurs pouvoirs et à se faire connaître des fidèles qui c
 hanteront leurs louanges\, en améliorant leur confort de vie par le biais
  de nouvelles technologies.\n\n					Chaque Olympien\, accompagné de ses h
 éros et prophètes\, se déplacera dans différents lieux mythiques afin 
 d’y réaliser des actions spécifiques\, ou bien ira fouler les terres m
 ortelles afin d’aider le peuple de Grèce. Au travers de ces actions\, i
 ls étendront leur influence et créeront de nouvelles technologies pour g
 agner des points de victoire\, tout en débloquant de nouveaux pouvoirs et
  attributs les élevant au rang de dieu. À la fin des 6 Âges\, le joueur
  ayant le plus de points de victoire gagnera sa place sur le trône de l
 ’Olympe et sera le garant de ce nouveau monde. Mais attention ! Si un jo
 ueur arrive à évoluer intégralement\, la partie s’achève brutalement
  et il prend naturellement l’ascendant sur les autres prétendants.\n\n\
 n\n\n\n	 \n
LOCATION:50 rue de la Grande Remise 78440 Porcheville - FR
ORGANIZER:ESPACE BORIS VIAN -
END:VEVENT
END:VCALENDAR
