BEGIN:VCALENDAR
VERSION:2.0
CALSCALE:GREGORIAN
METHOD:PUBLISH
BEGIN:VEVENT
SUMMARY:Jeu "The old king's crown"
DTSTART:20260523T173000Z
DTEND:20260523T183000Z
DTSTAMP:20260423T185747Z
CATEGORIES:
DESCRIPTION:\n	 \n\n\n		The Old King ‘s Crown – Un jeu de conquête c
 aptivant\n\n		 \n\n		Plongez dans l'univers fascinant de The Old King's C
 rown\, un jeu de conquête basé sur des cartes où vous incarnez les hér
 itiers d'un trône vacant. Dans ce royaume ancien envahi par la végétati
 on\, vous devrez rivaliser avec d'autres prétendants pour prendre le cont
 rôle de ce territoire dévasté. Préparez-vous à des stratégies intens
 es et à des alliances inattendues dans ce jeu palpitant qui promet des he
 ures de plaisir.\n\n		Pourquoi on l'adore\n\n		 \n\n		The Old King's Crow
 n se distingue par sa mécanique de jeu unique qui combine stratégie et i
 nteraction entre joueurs. Chaque partie est différente\, offrant une rejo
 uabilité exceptionnelle grâce à la diversité des cartes et des tactiqu
 es. Les joueurs doivent constamment s'adapter et élaborer des plans pour 
 surmonter leurs adversaires\, ce qui rend chaque session de jeu excitante 
 et imprévisible.\n\n\n	 \n
LOCATION:50 rue de la Grande Remise 78440 Porcheville - FR
ORGANIZER:ESPACE BORIS VIAN -
END:VEVENT
END:VCALENDAR
