BEGIN:VCALENDAR
VERSION:2.0
CALSCALE:GREGORIAN
METHOD:PUBLISH
BEGIN:VEVENT
SUMMARY:Conférence cybersécurité
DTSTART:20260520T070000Z
DTEND:20260520T090000Z
DTSTAMP:20260423T210246Z
CATEGORIES:
DESCRIPTION:\n	Êtes-vous suffisamment protégé ?\n\n	 \n\n	Le mercredi 
 20 mai prochain\, en seulement 2 heures de temps découvrez les enjeux act
 uels et les solutions pour protéger vos données avec un expert en cybers
 écurité\, ainsi que deux professionnels de l’assurance qui expliqueron
 t comment couvrir et anticiper les risques cyber.\n	Une occasion d’écha
 nger\, d’apprendre et de renforcer la sécurité de votre entreprise.\n\
 n	 \n\n	Accueil café: 8h45\n	Début de la conférence: 9h\n	Fin: 11h\n\n
 	Intervenants:\n\n	Pierre Bertrand: responsable de la société DATALP\, l
 aboratoire privé en recherche informatique\, spécialiste de la sécurit
 é des infrastructures réseau des entreprises et des collectivités terri
 toriales\n\n	Stéphanie Conte: chargée de développement et partenariats 
 industriels pour la société Hiscox\, assureur spécialisé pour les TPE 
 et indépendants\n\n	Fabrice Zerouali: conseiller assurance pro crédit ag
 ricole\n\n	 \n\n	 \n
LOCATION:89 chemin de la Ballastière 74200 Thonon les Bains - FR
ORGANIZER:L'Agence Economique du Chablais
END:VEVENT
END:VCALENDAR
