BEGIN:VCALENDAR
VERSION:2.0
CALSCALE:GREGORIAN
METHOD:PUBLISH
BEGIN:VEVENT
SUMMARY:SAMEDI : BORDEAUX STAR GUITAR
DTSTART:20260627T080000Z
DTEND:20260627T215500Z
DTSTAMP:20260422T234801Z
CATEGORIES:
DESCRIPTION:\nBORDEAUX STAR GUITAR : Salon de guitare + Concerts\n	DU 26 A
 U 27 JUIN\n\nLa seconde édition du Bordeaux Star guitar arrive et elle me
 ttra l’accent sur la guitare acoustique !\n	Deux jours consacrés à l
 ’univers de la guitare avec la présence de 28 luthiers venus de toute l
 a France\, mais aussi d’exposants spécialisés amplis\, pédales et acc
 essoires.\n\nOrganisée par Bordeaux Guitare Event elle aura comme parrain
  cette année : Laurent Rousseau.\n\nVenez découvrir le travail des luth
 iers français et bien d’autres matériels de l’univers de la guitare 
 : amplis\, pédales\, cordes. Pour nos amis guitaristes\, pas besoin d’
 apporter quoi que ce soit : des salles d’essai sont prévues pour vous p
 ermettre de prendre en main les instruments dans les meilleures conditions
 . Tout au long de l’évènement\, les luthiers viendront présenter leur
 s guitares en showcase\, sur une scène spécialement aménagée. Et ce n
 'est pas tout\, conférences et Masterclass viendront également animer le
  salon tout au long du week-end.\n\nHORAIRES - \nAccès au salon : 10h - 
 19h\n\nMasterclass Acoustique par Laurent Rousseau : 10h (durée : 1h) · 
 nombre de places limité\nMasterclass Electrique par Jean Fontanille : 11h
  (durée : 1h) · nombre de places limité\nConférence : " La relation en
 tre les musiciens et le luthier" par Laurent Rousseau : 16h\nConcerts : La
 urent Rousseau + Antoine Boyer : 20h30 (ouverture des portes : 19h30)\n\n	
  \n\nBILLETTERIE : \n\nAccès salon : 5€ (gratuit pour les mineurs) - U
 niquement sur place\nAttention\, votre billet n’est valable qu’un seul
  jour et ne vous donne pas accès aux concerts.\nPour accéder à la conf
 érence\, il faut être muni d'un billet "Accès au salon".\n\n	 \n\nSame
 di : \n\nMasterclass Acoustique par Laurent Rousseau : 15€ (nombre de pl
 aces limité)\n\nMasterclass Electrique par Jean Fontanille : 15€ (nombr
 e de places limité)\nSalon + Concerts : Laurent Rousseau · Antoine Boyer
  : 30€\nConcerts : Laurent Rousseau · Antoine Boyer (aucun accès au sa
 lon) : Prévente : 25€ / Sur place : 28€\n\n	 \n
LOCATION:Rue Walter Scott\, 33600 Pessac 33600 Pessac - FR
ORGANIZER:Sortie 13
END:VEVENT
END:VCALENDAR
