BEGIN:VCALENDAR
VERSION:2.0
CALSCALE:GREGORIAN
METHOD:PUBLISH
BEGIN:VEVENT
SUMMARY:VENDREDI : BORDEAUX STAR GUITAR
DTSTART:20260626T120000Z
DTEND:20260626T215500Z
DTSTAMP:20260422T234431Z
CATEGORIES:
DESCRIPTION:\nBORDEAUX STAR GUITAR : Salon de guitare + Concerts\n	DU 26 A
 U 27 JUIN\n\nLa seconde édition du Bordeaux Star guitar arrive et elle me
 ttra l’accent sur la guitare acoustique !\n	Deux jours consacrés à l
 ’univers de la guitare avec la présence de 28 luthiers venus de toute l
 a France\, mais aussi d’exposants spécialisés amplis\, pédales et acc
 essoires.\n\nOrganisée par Bordeaux Guitare Event elle aura comme parrain
  cette année : Laurent Rousseau.\n\nVenez découvrir le travail des luth
 iers français et bien d’autres matériels de l’univers de la guitare 
 : amplis\, pédales\, cordes. Pour nos amis guitaristes\, pas besoin d’
 apporter quoi que ce soit : des salles d’essai sont prévues pour vous p
 ermettre de prendre en main les instruments dans les meilleures conditions
 . Tout au long de l’évènement\, les luthiers viendront présenter leur
 s guitares en showcase\, sur une scène spécialement aménagée. Et ce n
 'est pas tout\, conférences et Masterclass viendront également animer le
  salon tout au long du week-end.\n\nHORAIRES - \nAccès au salon : 14h - 
 19h\nConférence : " Le Parcours de FFF" par Nicolas Baby (alias Niktus\, 
 bassiste de FFF) : 17h30\nConcerts : Fanalo + Christophe Godin : 20h30 (ou
 verture des portes : 19h30)\n\nBILLETTERIE : \n\nAccès salon : 5€ (gra
 tuit pour les mineurs) - Uniquement sur place\nAttention\, votre billet n
 ’est valable qu’un seul jour et ne vous donne pas accès aux concerts.
 \n\nPour accéder à la conférence\, il faut être muni d'un billet "Acc
 ès au salon".\n\n	 \n\nVendredi : \n\nSalon + Concerts Fanalo & Christop
 he Godin : 20€\nConcerts Fanalo : Christophe Godin (aucun accès au salo
 n) : prévente : 15€ / Sur Place : 18€\n\n	 \n
LOCATION:Rue Walter Scott\, 33600 Pessac 33600 Pessac - FR
ORGANIZER:Sortie 13
END:VEVENT
END:VCALENDAR
