BEGIN:VCALENDAR
VERSION:2.0
CALSCALE:GREGORIAN
METHOD:PUBLISH
BEGIN:VEVENT
SUMMARY:Pomme
DTSTART:20260617T180000Z
DTEND:20260617T210000Z
DTSTAMP:20260423T154905Z
CATEGORIES:
DESCRIPTION:Des histoires entières racontées en quelques minutes\, des m
 élodies qui s'attardent comme une bouée de sauvetage\, et des paroles si
  sincères qu'elles vous prennent au dépourvu\, Pomme vous donne rendez-v
 ous pour un concert intimiste au Pôle des Cultures Actuelles. 
LOCATION:rue turgot 59620 Aulnoye-Aymeries - FR
ORGANIZER:Communauté d'Agglomération Maubeuge Val de Sambre
END:VEVENT
END:VCALENDAR
