BEGIN:VCALENDAR
VERSION:2.0
CALSCALE:GREGORIAN
METHOD:PUBLISH
BEGIN:VEVENT
SUMMARY:MiniKonf "Valorisation d'entreprise et actifs immatériels : Comme
 nt mesurer ce qui fait vraiment la valeur?"
DTSTART:20260526T083000Z
DTEND:20260526T100000Z
DTSTAMP:20260419T130817Z
CATEGORIES:
DESCRIPTION:\n" Valorisation d’entreprise et actifs immatériels : Comme
 nt mesurer ce qui fait vraiment la valeur ?"\n\nAu programme\n\n	La valori
 sation des startups et entreprises innovantes ne peut se limiter aux seuls
  actifs financiers. Logiciels\, marques\, brevets\, savoir-faire\, portefe
 uille clients… ces actifs immatériels représentent une part croissante
  de la valeur d’une entreprise mais restent souvent invisibles dans les 
 comptes.\n\n	Lors de cette mini-conférence\, Sébastien Grandfils\, Prés
 ident de Mukeï\, partagera des approches\, référentiels et méthodes co
 ncrètes et illustrées pour évaluer ces actifs\, les piloter et mieux le
 s faire reconnaître\, notamment dans le cadre de levées de fonds\, de ce
 ssions ou de rapprochements stratégiques. Une session pratique pour compr
 endre comment mettre en valeur ce qui différencie vraiment votre entrepri
 se.\n	 \n\nAnimation ouverte à tous. L'inscription est gratuite mais obl
 igatoire.\n	 \n
LOCATION:Rue Pierre Laffitte 06410 BIOT - FR
ORGANIZER:Incubateur Provence-Côte d'Azur
END:VEVENT
END:VCALENDAR
