BEGIN:VCALENDAR
VERSION:2.0
CALSCALE:GREGORIAN
METHOD:PUBLISH
BEGIN:VEVENT
SUMMARY:NeFCON26. Nobilis et Fidelis. .
DTSTART:20260605T140000Z
DTEND:20260607T123000Z
DTSTAMP:20260424T154853Z
CATEGORIES:
DESCRIPTION:\n	NeFCON26 es el punto de encuentro imprescindible para los a
 mantes de los wargames\, la simulación histórica y los juegos de estrate
 gia. Organizado por Círculo de Isengard\, este evento nace con el mismo e
 spíritu que las jornadas Vassal Forever: reunir a la comunidad\, poner ca
 ra a quienes comparten afición y disfrutar de un fin de semana inolvidabl
 e alrededor de una mesa de juego.\n\n	Durante el evento podrás sumergirte
  en partidas épicas\, participar en demostraciones de novedades editorial
 es y compartir mesa con jugadores de todos los niveles\, desde veteranos h
 asta recién llegados. NeFCON26 es tanto un espacio para competir como par
 a aprender\, descubrir nuevos títulos y vivir el hobby desde dentro.\n\n	
 Más allá del juego\, NeFCON26 destaca por su ambiente cercano y acogedor
 \, donde la camaradería y la pasión por la historia y la estrategia son 
 protagonistas. Aquí no solo se juega: se crean conexiones\, se comparten 
 experiencias y se construye comunidad.\n\n	¿Qué puedes esperar?\n\n\n		P
 artidas organizadas y juego libre durante todo el evento\n\n		Demostracion
 es de juegos y prototipos\n\n		Presencia de editoriales y creadores\n\n		A
 ctividades especiales y sorpresas para los asistentes\n\n		Sorteos y conte
 nido exclusivo\n\n\n	NeFCON26 es un evento sin ánimo de lucro\, creado po
 r y para jugadores\, donde cada edición busca seguir creciendo sin perder
  su esencia: disfrutar\, aprender y compartir.\n\n	Si te apasionan los jue
 gos de estrategia y quieres vivir una experiencia única rodeado de gente 
 con tus mismas inquietudes… este es tu sitio.\n
LOCATION:C/Colegios 2 28801 Alcalá de Henares - ES
ORGANIZER:Círculo de Isengard
END:VEVENT
END:VCALENDAR
