BEGIN:VCALENDAR
VERSION:2.0
CALSCALE:GREGORIAN
METHOD:PUBLISH
BEGIN:VEVENT
SUMMARY:RENCONTRE avec les compositeurs des Miniatures
DTSTART:20260416T160000Z
DTSTAMP:20260422T085046Z
CATEGORIES:
DESCRIPTION:Rencontre avec les compositeurs des Miniatures en postlude du 
 festival\n\nPour l’édition 2004 du Printemps des Arts de Monte-Carlo\, 
 le directeur d’alors\, Marc Monnet\, avait passé commande à sept compo
 siteurs de « miniatures » qui furent ensuite chorégraphiées par Jean-C
 hristophe Maillot pour Les Ballets de Monte-Carlo.\n\n\n \n\n\nL'un des s
 ept commanditaires\, Bruno Mantovani\, devenu directeur artistique du fest
 ival\, a voulu prolonger le défi de cette démarche artistique et vous pr
 opose de (re)découvrir deux des ballets créés il y a 22 ans avec Jean-C
 hristophe Maillot\, accompagnés de quatre créations mondiales commandée
 s à quatre nouveaux compositeurs et chorégraphes.\n \n\nEn marge de la 
 première représentation des Miniatures à l'Opéra de Monte-Carlo\, le P
 rintemps des Arts vous propose une rencontre privilégiée dans le Studio 
 des chœurs de l'Opéra avec les compositeurs de ces ballets : Violeta C
 ruz\, Aurélien Dumont\, Misato Mochizuki et Bruno Mantovani\, en présenc
 e des chorégraphes Francesco Nappa\, Jeroen Verbruggen et Mimoza Koike.*\
 n \nCette rencontre sera modérée par André Peyrègne\, musicologue et 
 conférencier.\n \nPlaces limitées\, réservation obligatoire. Événeme
 nt réservé aux spectateurs d'une représentation des ballets.\n \nL'acc
 ès au Studio des chœurs se trouve à l'entrée des artistes au niveau de
 s Jardins du Casino\, à l'arrière du bâtiment.\n \n\n* sous réserve d
 e modifications\n
LOCATION:Jardin du Casino 98000  - MC
ORGANIZER:Printemps des Arts de Monte-Carlo
END:VEVENT
END:VCALENDAR
