BEGIN:VCALENDAR
VERSION:2.0
CALSCALE:GREGORIAN
METHOD:PUBLISH
BEGIN:VEVENT
SUMMARY:Journée Portes Ouvertes au Château Léoube - Samedi 16 mai 2026 
 de 10h00 à 17h00
DTSTART:20260516T080000Z
DTSTAMP:20260421T120505Z
CATEGORIES:
DESCRIPTION:Le Château Léoube ouvre ses portes pour une journée excepti
 onnelle au cœur du vignoble le samedi 16 mai 2026 de 10h00 à 17h00. \n
 À l’occasion de notre Journée Portes Ouvertes\, venez découvrir notre
  domaine\, notre savoir-faire et notre art de vivre dans une ambiance conv
 iviale et authentique.\nTout au long de la journée\, profitez d’un prog
 ramme riche en expériences :\n\nInitiation à la dégustation de nos vins
 \nBalade en calèche à travers le vignoble\nVisite guidée de la cave\nAt
 elier d’aquarelle au vin rouge\nStand d’animation culinaire\nBar Léou
 be\n\nEntre découvertes\, plaisirs gourmands et moments de partage\, cett
 e journée est l’occasion idéale de (re)découvrir l’univers du Chât
 eau Léoube en famille ou entre amis.\nNous vous attendons nombreux pour c
 élébrer ensemble cette journée unique !\nSur réservation – nombre de
  places limité
GEO:43.1225794;6.275080199999999
LOCATION:2387 Route de Léoube 83230 Bormes-les-Mimosas - FR
ORGANIZER:Léoube Distribution
END:VEVENT
END:VCALENDAR
