BEGIN:VCALENDAR
VERSION:2.0
CALSCALE:GREGORIAN
METHOD:PUBLISH
BEGIN:VEVENT
SUMMARY:Jeudi en résidence avec Nora Osagiobare
DTSTART:20260507T170000Z
DTEND:20260507T180000Z
DTSTAMP:20260419T150120Z
CATEGORIES:
DESCRIPTION:\n\nJeudi en résidence avec Nora Osagiobare\n\nJeudi 7 mai de
  19h à 20h\, suivi d'un apéritif\n\nEvénement en allemand\, traduit en 
 français \n\n		 \n\n		 \n\n\n\n		 \n\n\n	 \n
LOCATION:En Bois Désert 10 1147 Montricher - CH
ORGANIZER:Fondation Jan Michalski pour l'écriture et la littérature
END:VEVENT
END:VCALENDAR
