BEGIN:VCALENDAR
VERSION:2.0
CALSCALE:GREGORIAN
METHOD:PUBLISH
BEGIN:VEVENT
SUMMARY:Job Dating du Club Hotelier 78
DTSTART:20260513T120000Z
DTEND:20260513T170000Z
DTSTAMP:20260420T142930Z
CATEGORIES:
DESCRIPTION:
GEO:48.8015958;2.1350563
LOCATION:2 Bis Avenue de Paris 78000 Versailles - FR
ORGANIZER:Club Hotelier 78
END:VEVENT
END:VCALENDAR
